BEGIN:VCALENDAR
VERSION:2.0
METHOD:PUBLISH
X-WR-CALNAME:Mercociudades |  abril 05 2016- abril 05 2016
PRODID:-//strange bird labs//Drupal iCal API//EN
BEGIN:VEVENT
DTSTAMP;VALUE=DATE-TIME:20260419T150831Z
DTSTART;VALUE=DATE-TIME:20160404T143500Z
DTEND;VALUE=DATE-TIME:20020203
UID:http://mercociudades.net/node/5760
URL;VALUE=URI:http://mercociudades.net/node/5760
SUMMARY:1ª Jornada de intercambio técnico de la Comisión de Fomento de Negocios
DESCRIPTION:<p>1&ordf\; Jornada de intercambio t&eacute\;cnico de la Comisi&oacute\;n de Fomento de&nbsp\;Negocios\, entre Pergamino (Argentina) y Colonia (Uruguay).<br />
 contacto\:&nbsp\;<a href=\\"http\://dircoopint@pergamino.gob.ar\\">dircoopint@pergamino.gob.ar</a></p>
 <p>&nbsp\;</p>
 
END:VEVENT
END:VCALENDAR
